BEGIN:VCALENDAR
VERSION:2.0
PRODID:-//Müşerref Melda Özateş - ECPv5.4.0.2//NONSGML v1.0//EN
CALSCALE:GREGORIAN
METHOD:PUBLISH
X-WR-CALNAME:Müşerref Melda Özateş
X-ORIGINAL-URL:https://meldaozates.com
X-WR-CALDESC:Müşerref Melda Özateş için etkinlikler
BEGIN:VTIMEZONE
TZID:UTC
BEGIN:STANDARD
TZOFFSETFROM:+0000
TZOFFSETTO:+0000
TZNAME:UTC
DTSTART:20220101T000000
END:STANDARD
END:VTIMEZONE
BEGIN:VEVENT
DTSTART;TZID=UTC:20221127T100000
DTEND;TZID=UTC:20221127T170000
DTSTAMP:20260421T082013
CREATED:20221119T141351Z
LAST-MODIFIED:20221119T141351Z
UID:4616-1669543200-1669568400@meldaozates.com
SUMMARY:ACCESS THE BARS FETHİYE
DESCRIPTION:Access The Bars sınıfı sizi\, hayatınızda değiştirmek istediğiniz herhangi bir şeyi ve her şeyi değiştirmek üzere güçlendirmek için tasarlanmıştır. Bu sınıfta size çok sıklıkla işlevsel olduğumuz kısıtlamaların temelinden kopup ayrılmanız ve yeni bir temel\, sonsuz olasılıkları olan yeni bir hayat kurmanıza izin verecek bir çok araç kutusu verilecektir. Böylece gerçekten arzuladığınızı yaratmaya başlayabilirsiniz.\nNe arzuluyorsunuz?\nFarklı ne olmak isterdiniz?\nDaha fazla neşe ister miydiniz?\nDaha fazla eğlence?\nDaha fazla kolaylık?\nSabahları\, dünya gezegeninde olmanın verdiği mutluluk için\, şükran duygusuyla uyanmak ister miydiniz?\nSizin için bu her neyse\, O mümkündür.\nDünyanın 173 Ülkesinde bir çok uygulayıcı ve kolaylaştırıcı bu teknikleri kullanarak hayatlarını daha kolay\, neşeli ve ihtişamlı bir şekilde inşa etmişlerdir\nHer şey değişebilir. Hey şey mümkündür. Soru şudur\, onu seçecek misiniz?\n\n\nÖN KOŞUL : YOK\nSÜRE: 7-8 SAAT\n15 YAŞINA KADAR TÜM ÇOCUKLAR ÜCRETSİZ\n16-17 %50 ÖDEME YAPARAK KATILABİLİRLER
URL:https://meldaozates.com/etkinlikler/access-the-bars-fethiye/
LOCATION:göcek
END:VEVENT
END:VCALENDAR