BEGIN:VCALENDAR
VERSION:2.0
PRODID:-//Müşerref Melda Özateş - ECPv5.4.0.2//NONSGML v1.0//EN
CALSCALE:GREGORIAN
METHOD:PUBLISH
X-WR-CALNAME:Müşerref Melda Özateş
X-ORIGINAL-URL:https://meldaozates.com
X-WR-CALDESC:Müşerref Melda Özateş için etkinlikler
BEGIN:VTIMEZONE
TZID:UTC
BEGIN:STANDARD
TZOFFSETFROM:+0000
TZOFFSETTO:+0000
TZNAME:UTC
DTSTART:20210101T000000
END:STANDARD
END:VTIMEZONE
BEGIN:VEVENT
DTSTART;VALUE=DATE:20210426
DTEND;VALUE=DATE:20210430
DTSTAMP:20260420T133617
CREATED:20210321T165528Z
LAST-MODIFIED:20210321T165530Z
UID:4074-1619395200-1619740799@meldaozates.com
SUMMARY:Bahar Kampı
DESCRIPTION:27 Nisan’da AKREP BURCUNDA dolunay! Bu dolunay  ruhunuza dokunacak. İç dünyanızı derinden etkileyecek. Kendi duygularınızı ve zihninizi düzgün yönetebilmeniz bu dolunayda  çok önemli olacak ve bizler sizler için sonsuz olasılıklardan katkı alacağınız bir Kamp Düzenledik.\nKısaca Başlıklar:\nNefes analizi ve egzersiz\nAkrep Dolunayı meditasyonu\nHealy rezonans analizleri ve frekans çalışması\nSarkaç ile çakra analizi\nDoğada yürüyüş\nKarma ve kökler Atalar\nAile ve sistem dizimi çalışması\nZihin kalıpları ve olumlamalar\nKitap imza ve sohbet \nMüşerref Melda Özateş\nFüsun Nesrin Dabağlar \nTüm Detay İçerik ve Organizasyon için bize ulaşın
URL:https://meldaozates.com/etkinlikler/bahar-kampi/
LOCATION:Kaz Dağları\, Tahta Kuşlar Köyü\, Balıkesir\, Balikesir\, 10330\, Türkiye
CATEGORIES:Kapm
ATTACH;FMTTYPE=image/jpeg:https://meldaozates.com/wp-content/uploads/2021/03/WhatsApp-Image-2021-03-19-at-17.40.51.jpeg
END:VEVENT
END:VCALENDAR