BEGIN:VCALENDAR
VERSION:2.0
PRODID:-//Müşerref Melda Özateş - ECPv5.4.0.2//NONSGML v1.0//EN
CALSCALE:GREGORIAN
METHOD:PUBLISH
X-WR-CALNAME:Müşerref Melda Özateş
X-ORIGINAL-URL:https://meldaozates.com
X-WR-CALDESC:Müşerref Melda Özateş için etkinlikler
BEGIN:VTIMEZONE
TZID:UTC
BEGIN:STANDARD
TZOFFSETFROM:+0000
TZOFFSETTO:+0000
TZNAME:UTC
DTSTART:20230101T000000
END:STANDARD
END:VTIMEZONE
BEGIN:VEVENT
DTSTART;TZID=UTC:20230107T080000
DTEND;TZID=UTC:20230107T170000
DTSTAMP:20260420T150513
CREATED:20221211T103433Z
LAST-MODIFIED:20221211T103433Z
UID:4637-1673078400-1673110800@meldaozates.com
SUMMARY:İSTANBUL ACCESS THE BARS EĞİTİMİ
DESCRIPTION:Access The Bars sınıfı sizi\, hayatınızda değiştirmek istediğiniz herhangi bir şeyi ve her şeyi değiştirmek üzere güçlendirmek için tasarlanmıştır. Bu sınıfta size çok sıklıkla işlevsel olduğumuz kısıtlamaların temelinden kopup ayrılmanız ve yeni bir temel\, sonsuz olasılıkları olan yeni bir hayat kurmanıza izin verecek bir çok araç kutusu verilecektir. Böylece gerçekten arzuladığınızı yaratmaya başlayabilirsiniz.\nNe arzuluyorsunuz?\nFarklı ne olmak isterdiniz?\nDaha fazla neşe ister miydiniz?\nDaha fazla eğlence?\nDaha fazla kolaylık?\nSabahları\, dünya gezegeninde olmanın verdiği mutluluk için\, şükran duygusuyla uyanmak ister miydiniz?\nSizin için bu her neyse\, O mümkündür.\nDünyanın 173 Ülkesinde bir çok uygulayıcı ve kolaylaştırıcı bu teknikleri kullanarak hayatlarını daha kolay\, neşeli ve ihtişamlı bir şekilde inşa etmişlerdir\nHer şey değişebilir. Hey şey mümkündür. Soru şudur\, onu seçecek misiniz?\n\n\nÖN KOŞUL : YOK
URL:https://meldaozates.com/etkinlikler/istanbul-access-the-bars-egitimi/
LOCATION:İstanbul
ATTACH;FMTTYPE=image/png:https://meldaozates.com/wp-content/uploads/2022/12/Sari-Renginde-Gunluk-Instagram-Gonderisi-1.png
END:VEVENT
END:VCALENDAR