BEGIN:VCALENDAR
VERSION:2.0
PRODID:-//Müşerref Melda Özateş - ECPv5.4.0.2//NONSGML v1.0//EN
CALSCALE:GREGORIAN
METHOD:PUBLISH
X-WR-CALNAME:Müşerref Melda Özateş
X-ORIGINAL-URL:https://meldaozates.com
X-WR-CALDESC:Müşerref Melda Özateş için etkinlikler
BEGIN:VTIMEZONE
TZID:UTC
BEGIN:STANDARD
TZOFFSETFROM:+0000
TZOFFSETTO:+0000
TZNAME:UTC
DTSTART:20210101T000000
END:STANDARD
END:VTIMEZONE
BEGIN:VEVENT
DTSTART;VALUE=DATE:20210521
DTEND;VALUE=DATE:20210525
DTSTAMP:20260420T133654
CREATED:20210413T202628Z
LAST-MODIFIED:20210413T202628Z
UID:4131-1621555200-1621900799@meldaozates.com
SUMMARY:MAYIS KAMPI
DESCRIPTION:Kampımız Kaz Dağlarında Konaklamalı Olarak Gerçekleşecektir \n21.Mayıs Tarihi Giriş – 24 Mayıs Tarihi Çıkış Şeklindedir \nKısaca Başlıklar:\nNefes analizi ve egzersiz\nAkrep Dolunayı meditasyonu\nHealy rezonans analizleri ve frekans çalışması\nSarkaç ile çakra analizi\nDoğada yürüyüş\nKarma ve kökler Atalar\nAile ve sistem dizimi çalışması\nZihin kalıpları ve olumlamalar\nKitap imza ve sohbet \nMüşerref Melda Özateş\nFüsun Nesrin Dabağlar \nTüm Detay İçerik ve Organizasyon için bize ulaşın
URL:https://meldaozates.com/etkinlikler/mayis-kampi/
END:VEVENT
END:VCALENDAR